BEGIN:VCALENDAR
VERSION:2.0
PRODID:-//Growth Lab - ECPv6.15.20//NONSGML v1.0//EN
CALSCALE:GREGORIAN
METHOD:PUBLISH
X-ORIGINAL-URL:https://growthlab.hks.harvard.edu
X-WR-CALDESC:Events for Growth Lab
REFRESH-INTERVAL;VALUE=DURATION:PT1H
X-Robots-Tag:noindex
X-PUBLISHED-TTL:PT1H
BEGIN:VTIMEZONE
TZID:America/New_York
BEGIN:DAYLIGHT
TZOFFSETFROM:-0500
TZOFFSETTO:-0400
TZNAME:EDT
DTSTART:20220313T070000
END:DAYLIGHT
BEGIN:STANDARD
TZOFFSETFROM:-0400
TZOFFSETTO:-0500
TZNAME:EST
DTSTART:20221106T060000
END:STANDARD
BEGIN:DAYLIGHT
TZOFFSETFROM:-0500
TZOFFSETTO:-0400
TZNAME:EDT
DTSTART:20230312T070000
END:DAYLIGHT
BEGIN:STANDARD
TZOFFSETFROM:-0400
TZOFFSETTO:-0500
TZNAME:EST
DTSTART:20231105T060000
END:STANDARD
BEGIN:DAYLIGHT
TZOFFSETFROM:-0500
TZOFFSETTO:-0400
TZNAME:EDT
DTSTART:20240310T070000
END:DAYLIGHT
BEGIN:STANDARD
TZOFFSETFROM:-0400
TZOFFSETTO:-0500
TZNAME:EST
DTSTART:20241103T060000
END:STANDARD
END:VTIMEZONE
BEGIN:VEVENT
DTSTART;TZID=America/New_York:20230323T120000
DTEND;TZID=America/New_York:20230323T131500
DTSTAMP:20260422T081431
CREATED:20230314T182100Z
LAST-MODIFIED:20250910T000758Z
UID:14870-1679572800-1679577300@growthlab.hks.harvard.edu
SUMMARY:Development Talk: Easy to Say\, Hard to Do / Leading Economic Change in Wyoming
DESCRIPTION:The Growth Lab’s “Development Talks” is a series of conversations with policymakers and academics working in economic development. The seminar provides a platform for practitioners and researchers to discuss both the practice of development and analytical work centered on policy. 	Speaker: Josh Dorrell\, CEO\, Wyoming Business Council 	Moderator: Gordon Hanson\, Peter Wertheim Professor in Urban Policy\, HKS 	Whether attending in-person or virtually\, please register in advance. Room attendance is limited to the Harvard community. Seating availability is based on a first-come\, first-served basis. The Zoom webinar is open to the public. Lunch will be provided. 	As CEO of the Wyoming Business Council\, Josh Dorrell provides leadership and strategic direction in the state’s economic development strategy. In this talk\, Josh will discuss the growth challenges in Wyoming\, and how a research collaboration with the Growth Lab is helping them outline pathways to sustainable growth\, jobs\, and prosperity. 	 
URL:https://growthlab.hks.harvard.edu/event/development-talk-easy-to-say-hard-to-do-leading-economic-change-in-wyoming/
LOCATION:Location: Democracy Lab (R-414) (Harvard Community) / Zoom
CATEGORIES:Development Talks
END:VEVENT
END:VCALENDAR