BEGIN:VCALENDAR
VERSION:2.0
PRODID:-//Growth Lab - ECPv6.15.20//NONSGML v1.0//EN
CALSCALE:GREGORIAN
METHOD:PUBLISH
X-ORIGINAL-URL:https://growthlab.hks.harvard.edu
X-WR-CALDESC:Events for Growth Lab
REFRESH-INTERVAL;VALUE=DURATION:PT1H
X-Robots-Tag:noindex
X-PUBLISHED-TTL:PT1H
BEGIN:VTIMEZONE
TZID:America/New_York
BEGIN:DAYLIGHT
TZOFFSETFROM:-0500
TZOFFSETTO:-0400
TZNAME:EDT
DTSTART:20240310T070000
END:DAYLIGHT
BEGIN:STANDARD
TZOFFSETFROM:-0400
TZOFFSETTO:-0500
TZNAME:EST
DTSTART:20241103T060000
END:STANDARD
BEGIN:DAYLIGHT
TZOFFSETFROM:-0500
TZOFFSETTO:-0400
TZNAME:EDT
DTSTART:20250309T070000
END:DAYLIGHT
BEGIN:STANDARD
TZOFFSETFROM:-0400
TZOFFSETTO:-0500
TZNAME:EST
DTSTART:20251102T060000
END:STANDARD
BEGIN:DAYLIGHT
TZOFFSETFROM:-0500
TZOFFSETTO:-0400
TZNAME:EDT
DTSTART:20260308T070000
END:DAYLIGHT
BEGIN:STANDARD
TZOFFSETFROM:-0400
TZOFFSETTO:-0500
TZNAME:EST
DTSTART:20261101T060000
END:STANDARD
END:VTIMEZONE
BEGIN:VEVENT
DTSTART;TZID=America/New_York:20251202T101500
DTEND;TZID=America/New_York:20251202T113000
DTSTAMP:20260421T171948
CREATED:20251128T232637Z
LAST-MODIFIED:20251128T233402Z
UID:17292-1764670500-1764675000@growthlab.hks.harvard.edu
SUMMARY:The Geographic and Sectoral Impact of Productivity
DESCRIPTION:Online\n\n\nFederico Huneeus will discuss the geographic and sectoral impact of productivity changes and the local and aggregate impact of development policies\, the growth of the lithium industry\, and the closure of a major steel company. \n\n\n\nSpeaker: Federico Huneeus\, Assistant Professor in the Department of Economics at Duke University\, Senior Economist at the Central Bank of Chile \n\n\n\nPaper Abstract: We study the geographic and sectoral impact of productivity changes in a model that includes production linkages throughout the supply chain\, labor migration\, international and domestic trade\, congestion of fixed factors\, firm entry and exit\, and knowledge diffusion. To quantify these impacts\, we construct\, for the first time for Chile\, input-output matrices disaggregated by geography and sector\, consistent with national accounts\, using administrative data and surveys. We use the model to study the local and aggregate impact of development policies\, the growth of the lithium industry\, and the closure of a major steel company. In addition to aggregate impacts\, we identify winners and losers from these events. \n\n\n\nThis event is online only. Please register in advance. The Zoom session is open to the public. \n\n\n\nSpeaker Bio: Federico Huneeus is an Assistant Professor in the Department of Economics at Duke University. He is also a Senior Economist at the Central Bank of Chile. He was a postdoctoral fellow at the Yale University Cowles Foundation. He has a PhD in economics from Princeton University. He is a trade economist who investigates issues related to firm behavior\, from a micro and macro perspective\, with a special focus on the study of production networks of firms\, how they are formed\, how they affect productivity growth and how they affect the impact of development policies. He also has a line of research on understanding equity-efficiency trade-offs. \n\n\n\nThe Growth Lab’s Research Seminar series is a weekly seminar that brings together researchers from across the academic spectrum who share an interest in growth and development. \n\n\n\n \n\n\n\n \n\n\n\n\n\n\n  Share
URL:https://growthlab.hks.harvard.edu/event/17292/
CATEGORIES:Academic Research Seminars,Online,Speaker Series
ATTACH;FMTTYPE=image/jpeg:https://growthlab.hks.harvard.edu/wp-content/uploads/2025/11/IMG_0138.jpg
END:VEVENT
END:VCALENDAR