BEGIN:VCALENDAR
VERSION:2.0
PRODID:-//Growth Lab - ECPv6.15.20//NONSGML v1.0//EN
CALSCALE:GREGORIAN
METHOD:PUBLISH
X-ORIGINAL-URL:https://growthlab.hks.harvard.edu
X-WR-CALDESC:Events for Growth Lab
REFRESH-INTERVAL;VALUE=DURATION:PT1H
X-Robots-Tag:noindex
X-PUBLISHED-TTL:PT1H
BEGIN:VTIMEZONE
TZID:America/New_York
BEGIN:DAYLIGHT
TZOFFSETFROM:-0500
TZOFFSETTO:-0400
TZNAME:EDT
DTSTART:20250309T070000
END:DAYLIGHT
BEGIN:STANDARD
TZOFFSETFROM:-0400
TZOFFSETTO:-0500
TZNAME:EST
DTSTART:20251102T060000
END:STANDARD
BEGIN:DAYLIGHT
TZOFFSETFROM:-0500
TZOFFSETTO:-0400
TZNAME:EDT
DTSTART:20260308T070000
END:DAYLIGHT
BEGIN:STANDARD
TZOFFSETFROM:-0400
TZOFFSETTO:-0500
TZNAME:EST
DTSTART:20261101T060000
END:STANDARD
BEGIN:DAYLIGHT
TZOFFSETFROM:-0500
TZOFFSETTO:-0400
TZNAME:EDT
DTSTART:20270314T070000
END:DAYLIGHT
BEGIN:STANDARD
TZOFFSETFROM:-0400
TZOFFSETTO:-0500
TZNAME:EST
DTSTART:20271107T060000
END:STANDARD
END:VTIMEZONE
BEGIN:VEVENT
DTSTART;TZID=America/New_York:20260108T140000
DTEND;TZID=America/New_York:20260108T150000
DTSTAMP:20260425T063852
CREATED:20260106T205714Z
LAST-MODIFIED:20260107T141309Z
UID:17370-1767880800-1767884400@growthlab.hks.harvard.edu
SUMMARY:Venezuela After Maduro
DESCRIPTION:Online\n\n\nA timely discussion about the country’s future\, the region’s stability\, and America’s approach to the Hemisphere\n\n\n\nJoin the Institute of Politics for a timely virtual panel discussion examining recent political\, economic\, and democratic developments in Venezuela. Featuring leading voices from government\, academia\, and civil society\, the conversation will explore the country’s evolving challenges\, regional implications\, and prospects for democratic change. This event is open to all who are interested in understanding Venezuela’s future and its significance for the Western Hemisphere. \n\n\n\nFeaturing: \n\n\n\nFreddy Guevara\, Ash Center Democracy Visiting Fellow; Venezuelan opposition politician\, former deputy and vice president of the National Assembly\, and key figure in the anti-Maduro movement who has faced political persecution and imprisonment \n\n\n\nRicardo Hausmann\, Harvard Kennedy School Rafik Hariri Professor of the Practice of International Political Economy; Director of the Growth Lab \n\n\n\nDr. Rebecca Bill Chavez\, President and CEO of the Inter-American Dialogue; Former Deputy Assistant Secretary of Defense for Western Hemisphere Affairs \n\n\n\nJuan Gonzalez\, Resident Fellow at Georgetown Americas Institute; Former Senior Director of the National Security Council for the Western Hemisphere \n\n\n\nThis event will be moderated by Ned Price\, Interim Co-Director\, Institute of Politics; Former Deputy to the U.S. Representative to the United Nations\, and former Senior Advisor to Secretary of State Antony J. Blinken. \n\n\n\nCo-sponsors: Ash Center for Democratic Governance and Innovation; Carr-Ryan Center for Human Rights; Belfer Center for Science and International Affairs; The Growth Lab at Harvard Kennedy School. \n\n\n\n \n\n\n\n\n\n\n  Share
URL:https://growthlab.hks.harvard.edu/event/venezuela-after-maduro/
CATEGORIES:Online
ATTACH;FMTTYPE=image/webp:https://growthlab.hks.harvard.edu/wp-content/uploads/2026/01/01.08.26-Venezuela-Special-Event-web_1.webp
END:VEVENT
END:VCALENDAR