BEGIN:VCALENDAR
VERSION:2.0
PRODID:-//Growth Lab - ECPv6.15.20//NONSGML v1.0//EN
CALSCALE:GREGORIAN
METHOD:PUBLISH
X-ORIGINAL-URL:https://growthlab.hks.harvard.edu
X-WR-CALDESC:Events for Growth Lab
REFRESH-INTERVAL;VALUE=DURATION:PT1H
X-Robots-Tag:noindex
X-PUBLISHED-TTL:PT1H
BEGIN:VTIMEZONE
TZID:America/New_York
BEGIN:DAYLIGHT
TZOFFSETFROM:-0500
TZOFFSETTO:-0400
TZNAME:EDT
DTSTART:20140309T070000
END:DAYLIGHT
BEGIN:STANDARD
TZOFFSETFROM:-0400
TZOFFSETTO:-0500
TZNAME:EST
DTSTART:20141102T060000
END:STANDARD
BEGIN:DAYLIGHT
TZOFFSETFROM:-0500
TZOFFSETTO:-0400
TZNAME:EDT
DTSTART:20150308T070000
END:DAYLIGHT
BEGIN:STANDARD
TZOFFSETFROM:-0400
TZOFFSETTO:-0500
TZNAME:EST
DTSTART:20151101T060000
END:STANDARD
BEGIN:DAYLIGHT
TZOFFSETFROM:-0500
TZOFFSETTO:-0400
TZNAME:EDT
DTSTART:20160313T070000
END:DAYLIGHT
BEGIN:STANDARD
TZOFFSETFROM:-0400
TZOFFSETTO:-0500
TZNAME:EST
DTSTART:20161106T060000
END:STANDARD
BEGIN:DAYLIGHT
TZOFFSETFROM:-0500
TZOFFSETTO:-0400
TZNAME:EDT
DTSTART:20170312T070000
END:DAYLIGHT
BEGIN:STANDARD
TZOFFSETFROM:-0400
TZOFFSETTO:-0500
TZNAME:EST
DTSTART:20171105T060000
END:STANDARD
END:VTIMEZONE
BEGIN:VEVENT
DTSTART;TZID=America/New_York:20161021T114500
DTEND;TZID=America/New_York:20161021T130000
DTSTAMP:20260424T072653
CREATED:20161011T193000Z
LAST-MODIFIED:20250916T175417Z
UID:14942-1477050300-1477054800@growthlab.hks.harvard.edu
SUMMARY:Lunch Seminar - City SMARTup: New Tools to Fire Up Your Smart City Project
DESCRIPTION:Speaker: Renato De Castro\, International Advisor\, World e-Governments Organization 	  \nRenato de Castro is a Smart City senior consultant with more than 20 years’ experience and specialized in investment attraction and management for smart cities projects. He is senior vice president for Smart Cities at CreF\, Inc\, an American investment bank from Pittsburgh. He is also a member of the global advisory board of Leading Cities\, located in Boston\, and international advisor for The World e-Governments Organization of Cities and Local Governments\, in Seoul. Renato responds as mentor and advisor specialized in globalization strategies for startups around the world. He is a Doctor of Business Administration candidate at Maastricht School of Management\, MSM\, Netherlands\, researching about Smart Cities. He is also a writer\, columnist and video blogger for Smart City\, ICT and Urbanization Strategies topics. 	Note: This talk will be held in Nye A in the Taubman building.
URL:https://growthlab.hks.harvard.edu/event/lunch-seminar-city-smartup-new-tools-to-fire-up-your-smart-city-project/
LOCATION:Nye A\, 5th Floor Taubman\, HKS
CATEGORIES:Speaker Series
END:VEVENT
BEGIN:VEVENT
DTSTART;TZID=America/New_York:20161018T160000
DTEND;TZID=America/New_York:20161018T173000
DTSTAMP:20260424T072653
CREATED:20161018T013500Z
LAST-MODIFIED:20250916T175417Z
UID:15049-1476806400-1476811800@growthlab.hks.harvard.edu
SUMMARY:Saving a Nation: Restoring the Rule of Law In Guatemala
DESCRIPTION:Join Iván Velásquez Gómez\, Commissioner for the International Commission Against Impunity in Guatemala (CICIG)\, as he describes his battles against illegal security groups and clandestine security organizations in Guatemala – criminal groups believed to have infiltrated state institutions\, fostering impunity and undermining democratic gains in Guatemala since the end of the country’s armed conflict in the 1990s. The CICIG  represents an innovative initiative by the United Nations together with a Member State to strengthen the rule of law in a post-conflict country. Before his post with CICIG\, Commissioner Gómez was a prosecutor in Colombia\, where he investigated the ties and relations of former President Uribe to paramilitary groups. Co-sponsored by the Center for International Development\, the Carr Center for Human Rights\, and the David Rockefeller Center for Latin American Studies Tickets to this event are free\, with priority given to Harvard students\, but you MUST register HERE   
URL:https://growthlab.hks.harvard.edu/event/saving-a-nation-restoring-the-rule-of-law-in-guatemala/
LOCATION:Adams House LCR
END:VEVENT
BEGIN:VEVENT
DTSTART;TZID=America/New_York:20161014T114500
DTEND;TZID=America/New_York:20161014T130000
DTSTAMP:20260424T072653
CREATED:20161006T173700Z
LAST-MODIFIED:20250916T175417Z
UID:14945-1476445500-1476450000@growthlab.hks.harvard.edu
SUMMARY:Lunch Seminar - Empowering Human Capital and Institutions through Higher Education
DESCRIPTION:Speaker: Angelica Natera\, Executive Director LASPAU \nAngélica Natera is the Executive Director of Laspau: an organization affiliated with Harvard University that has contributed to the educational development of thousands of individuals in Latin America through scholarship programs and knowledge exchange opportunities. With more than 25 years of professional experience\, including 14 years at Harvard\, she has worked on the design and management of educational programs for public and private universities\, governmental agencies\, private companies and non-profit organizations in Latin America\, Spain and the United States. In working with different regions in the world\, Angélica has developed extensive expertise and a deep understanding of global trends and innovation in higher education. 	Angélica has developed programs to improve teaching in public and private universities in Latin America and the Caribbean\, programs on effective learning and teaching in engineering and science\, programs to improve entrepreneurship education\, and initiatives to promote the development of clusters of innovation and competitiveness through the integration of universities\, government and industry. She has led educational programs for a broad range of organizations and entities\, including the United States Department of State\, Goldman Sachs Foundation’s 10\,000 Women Initiative\, the Kellogg Foundation\, the Ministry of Education in Chile\, the Ministry of Higher Education\, Science and Technology in the Dominican Republic\, and the Council of Science and Technology in Colombia among others. These programs and initiatives have involved experts from Harvard University\, the Massachusetts Institute of Technology\, Olin College\, Brown University\, and the University of California. 	Angélica has advised governments and university leaders on innovation in learning and teaching. In 2007 she founded the Initiative for the Development of Academic Innovation\, which has contributed to the professional development of thousands of university teachers and academic leaders in Latin America. She has been invited to share her ideas and experience across the US\, Latin America\, Caribbean\, Africa\, Asia and the Middle East. Because of her work and leadership\, Angélica has been invited to present at the National Hispana Leadership Institute\, a program for successful Latinas leaders in the US. Angélica is Venezuelan and holds a graduate certificate in administration and management from Harvard University\, a graduate degree in psychology from the Universidad Simón Bolivar in Venezuela\, and a bachelor of administrative and management sciences from the Universidad Tecnológica del Centro in Venezuela. In 2010 Angélica was awarded the Harvard University Administrative Fellowship\, a program of the office of the assistant to the President\, which selects talented individuals in the university.
URL:https://growthlab.hks.harvard.edu/event/lunch-seminar-empowering-human-capital-and-institutions-through-higher-education/
LOCATION:Perkins Room (R-415)\, 4th Floor Rubenstein\, HKS
END:VEVENT
BEGIN:VEVENT
DTSTART;TZID=America/New_York:20161007T114500
DTEND;TZID=America/New_York:20161007T130000
DTSTAMP:20260424T072653
CREATED:20160927T002200Z
LAST-MODIFIED:20250916T175417Z
UID:14941-1475840700-1475845200@growthlab.hks.harvard.edu
SUMMARY:Lunch Seminar - Can Government Promote Evidence-based Innovation in Development?
DESCRIPTION:  Speaker: Anne Healy (MPA/ID ’12)\, Managing Director of Development Innovation Ventures (DIV)\, USAID  Anne leads Development Innovation Ventures (DIV) at USAID\, the Agency’s evidence-based social innovation fund. She has worked across the private\, public\, and social sectors on evidence and innovation in government and international development.  As a consultant at McKinsey & Co.\, she advised Fortune 500 companies\, federal and state government entities\, multilateral organizations\, and philanthropies on strategy\, organizational change\, and operations\, with a focus on economic development and crisis response and recovery. Anne was part of the senior leadership team that established the Innovations for Poverty Action operation in Kenya\, where she also oversaw randomized controlled trials in the water and sanitation sector with leading development economists from Harvard and Berkeley. Most recently\, as Senior Advisor at the State Department\, Anne advised Deputy Secretary Heather Higginbottom on global health security and innovation in Department operations and management. DIV recruits graduate student summer interns\, so this would be a useful opportunity for students starting to consider internship options to hear about an exciting opportunity in the public sector.
URL:https://growthlab.hks.harvard.edu/event/lunch-seminar-can-government-promote-evidence-based-innovation-in-development/
LOCATION:Perkins Room (R-415)\, 4th Floor Rubenstein\, HKS
CATEGORIES:Speaker Series
END:VEVENT
BEGIN:VEVENT
DTSTART;TZID=America/New_York:20160930T114500
DTEND;TZID=America/New_York:20160930T130000
DTSTAMP:20260424T072653
CREATED:20160913T212900Z
LAST-MODIFIED:20250910T002407Z
UID:14946-1475235900-1475240400@growthlab.hks.harvard.edu
SUMMARY:Lunch Seminar - Evaluating a Green Finance Investment: Scaling-Up Renewable Geothermal Energy in Indonesia
DESCRIPTION:Speaker: Migara Yawardena\, Senior Energy Specialist in the Energy and Extractives Global Practice\, The World Bank Migara Jayawardena has worked throughout the world on issues related to infrastructure reform and development finance. Mr. Jayawardena’s work in the energy sector has focused mostly on power sector and utility reform\, renewable energy\, rural electrification\, public-private partnerships\, and development challenges related to climate change.  In his current position\, he works mainly on business development\, policy advice\, and investment lending challenges in the Latin America and Caribbean region.  Previously\, Mr. Jayawardena worked in the East Asia region of the World Bank where he led work on climate change and support to a globally unprecedented geothermal renewable energy development program; institutional reform of utilities; power transmission and distributional system strengthening; hydropower development; rural energy access; and oil and gas sector issues. Mr. Jayawardena has also worked in Europe and Central Asia and Africa regions of the World Bank\, in addition to holding the position of Special Assistant to the Vice President of Human Resources. Prior to joining the World Bank\, Mr. Jayawardena was the Assistant Program Director and a Faculty Member for the Program on Investment Appraisal and Management\, at Harvard University’s Institute for International Development (HIID).  He also helped establish Cambridge Resources International (CRI)\, an investment and risk advisory consultancy. Migara received his B.Sc. in Economics from Towson State University and his Masters in Public Policy from Harvard University.
URL:https://growthlab.hks.harvard.edu/event/lunch-seminar-evaluating-a-green-finance-investment-scaling-up-renewable-geothermal-energy-in-indonesia/
LOCATION:Perkins Room (R-415)\, 4th Floor Rubenstein\, HKS
CATEGORIES:Speaker Series
END:VEVENT
BEGIN:VEVENT
DTSTART;TZID=America/New_York:20160923T114500
DTEND;TZID=America/New_York:20160923T130000
DTSTAMP:20260424T072653
CREATED:20160913T211900Z
LAST-MODIFIED:20250916T175416Z
UID:14958-1474631100-1474635600@growthlab.hks.harvard.edu
SUMMARY:Lunch Seminar: Making a Mark and Achieving Your Highest Potential in the Development Sector
DESCRIPTION:Speaker: Soulaima Gourani\, CEO Capital Aid & Owner\, Tradeconductor.com \nSoulaima Gourani is a Danish CEO\, motivational speaker\, author\, and philanthropist whose vision is to make the world a more tolerant place through international trade and business relations. She is currently CEO of CapitalAid\, a Denmark-based company helping small businesses to accelerate growth through strategic growth loans\, and as CEO of Tradeconductor.com\, a service working to implement trade relations and connecting manufacturers with distributors. Gourani has also worked as an advisor to several major companies (e.g. Samsung\, Microsoft\, Dell\, Ernst & Young\, Deloitte\, Danske Bank\, etc.) on customer loyalty\, strategic networking\, employee motivation\, and designing sustainable products. Alongside her work with business growth and trade\, Gourani serves as the chair of numerous other organizations including Global Dignity\, a nonprofit working to engage youth in conversations about dignity\, and the Mara Mentor Initiative\, an online platform seeking to empower young African entrepreneurs in their business ventures
URL:https://growthlab.hks.harvard.edu/event/lunch-seminar-making-a-mark-and-achieving-your-highest-potential-in-the-development-sector/
LOCATION:Perkins Room (R-415)\, 4th Floor Rubenstein\, HKS
CATEGORIES:Speaker Series
END:VEVENT
BEGIN:VEVENT
DTSTART;TZID=America/New_York:20160916T114500
DTEND;TZID=America/New_York:20160916T130000
DTSTAMP:20260424T072653
CREATED:20160901T012400Z
LAST-MODIFIED:20250916T175416Z
UID:14939-1474026300-1474030800@growthlab.hks.harvard.edu
SUMMARY:Lunch Seminar - A New Era for Development Assistance: How well are NGOs and their Partners Adapting?
DESCRIPTION:Speaker: Charles MacCormack\, President Emeritus\, Save the Children \nCharles MacCormack is President Emeritus of Save the Children U.S. and currently an advanced Leadership Fellow at Harvard University\, where he is working on issues involving the role of private philanthropy in global health and development. Most recently\, Dr. MacCormack has served as Executive Chair of the Millennium Development Goal Health Alliance; Executive in Residence at Middlebury College; and Senior Fellow at Interaction. He was previously CEO of Save the Children from 1993 to 2012 and CEO of World Learning/School for International Training from 1997 until 1993. 	He is a graduate of Middlebury College and holds his Masters and Ph.D degrees from Columbia University.
URL:https://growthlab.hks.harvard.edu/event/lunch-seminar-a-new-era-for-development-assistance-how-well-are-ngos-and-their-partners-adapting/
LOCATION:Perkins Room (R-415)\, 4th Floor Rubenstein\, HKS
CATEGORIES:Speaker Series
END:VEVENT
BEGIN:VEVENT
DTSTART;TZID=America/New_York:20160909T114500
DTEND;TZID=America/New_York:20160909T130000
DTSTAMP:20260424T072653
CREATED:20160901T011500Z
LAST-MODIFIED:20250910T002731Z
UID:14960-1473421500-1473426000@growthlab.hks.harvard.edu
SUMMARY:Lunch Seminar: What if Doctors Could Prescribe Seeds? Integrating Nutrition and Agriculture to Address Malnutrition in Rwanda
DESCRIPTION:Speaker: Jessie Cronan\, Executive Director\, Gardens for Health International 	Gardens for Health International (GHI) is an NGO that works in partnership with local health centers in Rwanda to provide lasting agricultural solutions to chronic childhood malnutrition. 	Jessie joined the Gardens for Health team in June 2012. She came to the organization with a broad range of experiences in international development and in Africa specifically. As a Princeton-in-Africa fellow with the Tanzanian Children’s Fund in 2007 – 2008\, Jessie spent 18 months living and working in rural Tanzania to improve educational outcomes of primary school students. Jessie’s work in Tanzania inspired her to pursue a career focused on working at the community level to spark sustainable change in the developing world. 	While pursuing her Master’s degree in Public Policy\, Jessie worked as a consultant with the Aceh Women’s League – an Indonesian NGO dedicated to promoting women’s political empowerment – and with the Network of Women Leaders – a group of public and private sector leaders in the Horn of Africa.Most recently\, Jessie served as a Strategy and New Business Development Coordinator with TechnoServe\, an NGO dedicated to identifying business solutions to poverty in Swaziland. 	Jessie holds a Bachelor’s degree from Princeton University and a Master’s degree in Public Policy from the Harvard Kennedy School.
URL:https://growthlab.hks.harvard.edu/event/lunch-seminar-what-if-doctors-could-prescribe-seeds-integrating-nutrition-and-agriculture-to-address-malnutrition-in-rwanda/
LOCATION:Perkins Room (R-415)\, 4th Floor Rubenstein\, HKS
CATEGORIES:Speaker Series
END:VEVENT
BEGIN:VEVENT
DTSTART;TZID=America/New_York:20160906T181500
DTEND;TZID=America/New_York:20160906T191500
DTSTAMP:20260424T072653
CREATED:20150831T222500Z
LAST-MODIFIED:20250909T235742Z
UID:14820-1473185700-1473189300@growthlab.hks.harvard.edu
SUMMARY:CID Open House
DESCRIPTION:Interested in the cutting edge research in International Development? Here’s your chance to meet CID faculty\, research fellows and staff and learn about student programs and opportunities at CID’s Annual Open House hosted by Marcela Escobari\, CID Executive Director.  Featuring Research Programs:  Building State Capability (Matt Andrews) Evidence for Policy Design (Asim Khwaja) Growth Lab (Ricardo Hausmann) RSVP not necessary. If you have any questions about the event\, please contact Andrea Hayes.
URL:https://growthlab.hks.harvard.edu/event/cid-open-house-2/
LOCATION:Malkin Penthouse\, HKS
END:VEVENT
BEGIN:VEVENT
DTSTART;TZID=America/New_York:20160107T010000
DTEND;TZID=America/New_York:20160108T010000
DTSTAMP:20260424T072653
CREATED:20160106T020000Z
LAST-MODIFIED:20250911T203448Z
UID:15057-1452128400-1452214800@growthlab.hks.harvard.edu
SUMMARY:Sri Lanka Economic Forum
DESCRIPTION:Saving a Nation: Restoring the Rule of Law In Guatemala\n\n\n\n\n\n\nSteering Sri Lanka towards Sustainable and Inclusive Development\n\n\n\nHarvard University’s Center for International Development has done an initial growth diagnosis on Sri Lanka and has identified the following key areas they believe are important to support sustained and inclusive long-term growth. \n\n\n\n\nMacroeconomic and Fiscal Stability\n\n\n\nStructural Transformation and Competitiveness\n\n\n\nUrbanization and Development\n\n\n\nRegional Development and Social Inclusion\n\n\n\n\nThis economic forum is structured around these key areas of risk and opportunity\, with several internationally-respected thought leaders invited to share their perspectives with the Government of Sri Lanka. \n\n\n\nSpeakers include: \n\n\n\n\nRicardo Hausmann – Director\, CID\n\n\n\nJoseph Stiglitz – Professor of Economics\, Graduate School of Arts and Science\, Columbia Business School\n\n\n\nGeorge Soros – Founder/Chairman\, Open Society Foundations\n\n\n\nRanil Wickremesinghe – Prime Minister\, Sri Lanka\n\n\n\n\nVisit http://srilankaeconomicforum.org/ for a live stream. \n\n\n\n\n\n\n\n\n\n\n\n\n\n\n \n\n\n\n\n\n  \n        \n\nExplore
URL:https://growthlab.hks.harvard.edu/event/sri-lanka-economic-forum/
END:VEVENT
BEGIN:VEVENT
DTSTART;TZID=America/New_York:20151001T180000
DTEND;TZID=America/New_York:20151002T180000
DTSTAMP:20260424T072653
CREATED:20150710T230200Z
LAST-MODIFIED:20250910T004500Z
UID:15059-1443722400-1443808800@growthlab.hks.harvard.edu
SUMMARY:Symposiusm on Inclusive Growth and Development
DESCRIPTION:The Center for International Development at Harvard University is collaborating with the World Economic Forum’s Global Agenda Meta-Council on Inclusive Growth and the MasterCard Center for Inclusive Growth to find sustainable and scalable solutions to foster inclusive growth. The project began in March 2015 with a “call for practical examples and ideas” – open to those in the Network of Global Agenda Councils of the World Economic Forum\, various Forum communities including Global Shapers and Young Global Leaders\, as well as to those in academia\, governments\, think-tanks\, non-profits\, private sector or working independently. It will culminate in a two-day symposium at CID on October 1-2\, 2015\, during which those behind the best examples or ideas of practices\, policies and institutional models will meet with other leaders to discuss how to best move them forward. The Symposium is an invitation-only event\, but a live web stream is available for the public. To learn more about the proposals and agenda\, visit www.growthsymposium.org. Thursday\, Oct. 1 | 6:00pm [[{“fid”:”3026321″\,”view_mode”:”default”\,”type”:”media”\,”attributes”:{“height”:”57″\,”width”:”69″\,”style”:”float: left;”\,”class”:”media-element file-default”}}]]The Challenge of Inclusion: A Conversation with Larry Summers  Featuring: Lawrence H. Summers\, Charles W. Eliot University Professor and President Emeritus at Harvard University Host: John Authers\, Senior Investment Columnist\, Financial Times Co-Sponsor: Harvard University Institute of Politics  Friday\, Oct. 2 | 8am – 6pm [[{“fid”:”3026321″\,”view_mode”:”default”\,”type”:”media”\,”attributes”:{“height”:”57″\,”width”:”69″\,”style”:”float: left;”\,”class”:”media-element file-default”}}]]Watch all panels and sessions   Follow us: [[{“fid”:”3026731″\,”view_mode”:”default”\,”type”:”media”\,”attributes”:{“height”:”42″\,”width”:”63″\,”style”:”float: left;”\,”class”:”media-element file-default”}}]] @HarvardCID   |   @CNTR4Growth   |   @WEF  #Inclusive Growth
URL:https://growthlab.hks.harvard.edu/event/symposiusm-on-inclusive-growth-and-development/
LOCATION:Harvard Kennedy School
END:VEVENT
BEGIN:VEVENT
DTSTART;TZID=America/New_York:20150910T170000
DTEND;TZID=America/New_York:20150910T183000
DTSTAMP:20260424T072653
CREATED:20160810T222800Z
LAST-MODIFIED:20250916T175416Z
UID:14819-1441904400-1441909800@growthlab.hks.harvard.edu
SUMMARY:CID Open House
DESCRIPTION:We want to give a warm welcome to our students and faculty to the 2016-2017 academic year!  	Please join us for some refreshments and to learn more about CID from staff and faculty starting at 6:15pm.  	 
URL:https://growthlab.hks.harvard.edu/event/cid-open-house/
LOCATION:NYE B & C\, 5th floor Taubman Building\, HKS
END:VEVENT
END:VCALENDAR