BEGIN:VCALENDAR
VERSION:2.0
PRODID:-//Growth Lab - ECPv6.15.20//NONSGML v1.0//EN
CALSCALE:GREGORIAN
METHOD:PUBLISH
X-ORIGINAL-URL:https://growthlab.hks.harvard.edu
X-WR-CALDESC:Events for Growth Lab
REFRESH-INTERVAL;VALUE=DURATION:PT1H
X-Robots-Tag:noindex
X-PUBLISHED-TTL:PT1H
BEGIN:VTIMEZONE
TZID:America/New_York
BEGIN:DAYLIGHT
TZOFFSETFROM:-0500
TZOFFSETTO:-0400
TZNAME:EDT
DTSTART:20220313T070000
END:DAYLIGHT
BEGIN:STANDARD
TZOFFSETFROM:-0400
TZOFFSETTO:-0500
TZNAME:EST
DTSTART:20221106T060000
END:STANDARD
BEGIN:DAYLIGHT
TZOFFSETFROM:-0500
TZOFFSETTO:-0400
TZNAME:EDT
DTSTART:20230312T070000
END:DAYLIGHT
BEGIN:STANDARD
TZOFFSETFROM:-0400
TZOFFSETTO:-0500
TZNAME:EST
DTSTART:20231105T060000
END:STANDARD
BEGIN:DAYLIGHT
TZOFFSETFROM:-0500
TZOFFSETTO:-0400
TZNAME:EDT
DTSTART:20240310T070000
END:DAYLIGHT
BEGIN:STANDARD
TZOFFSETFROM:-0400
TZOFFSETTO:-0500
TZNAME:EST
DTSTART:20241103T060000
END:STANDARD
END:VTIMEZONE
BEGIN:VEVENT
DTSTART;TZID=America/New_York:20230501T101500
DTEND;TZID=America/New_York:20230501T113000
DTSTAMP:20260424T104136
CREATED:20230426T214200Z
LAST-MODIFIED:20250910T004037Z
UID:15032-1682936100-1682940600@growthlab.hks.harvard.edu
SUMMARY:Research Seminar: Self-Employment within the Firm
DESCRIPTION:The Growth Lab Research Seminar series is a weekly seminar that brings together researchers from across the academic spectrum who share an interest in growth and development. 	Location: Online only/Zoom Please register in advance. 	Abstract: In this seminar\, Alessandra Peter\, Assistant Professor of Economics at NYU will share her research with Vittorio Bassi\, J. H. Lee\, Tommaso Porzio\, Ritwika Sen\, and Esau Tugume on the internal organization of firms in developing countries and how it affects their productivity and optimal size. They collected detailed time use data for 1\,000 manufacturing firms in urban Uganda and document limited within-firm labor specialization. Even in relatively large firms\, entrepreneurs and their employees work on similar tasks. As such\, firms resemble a collection of self-employed individuals who share a production location. To interpret the empirical evidence\, they develop an equilibrium model of task assignment\, firm size\, and occupational choice. They find that barriers to labor specialization generate decreasing returns to scale at the firm level\, which reduces the returns to entrepreneurial ability and keeps firms small in equilibrium. Given the internal organization of firms we document\, benefits from alleviating any other frictions that constrain firm growth are muted. 	About the speaker: Alessandra Peter is an assistant professor of Economics at NYU\, with a focus on Macroeconomics and Development. Her research analyzes constraints and barriers to firm growth in low-income countries as well as the effect of imperfect competition across firms on consumers in the United States.
URL:https://growthlab.hks.harvard.edu/event/research-seminar-self-employment-within-the-firm/
LOCATION:Zoom (registration information below)
CATEGORIES:Academic Research Seminars
END:VEVENT
BEGIN:VEVENT
DTSTART;TZID=America/New_York:20230515T103000
DTEND;TZID=America/New_York:20230515T113000
DTSTAMP:20260424T104136
CREATED:20230510T211600Z
LAST-MODIFIED:20250910T003728Z
UID:15013-1684146600-1684150200@growthlab.hks.harvard.edu
SUMMARY:Research Seminar: Exploration and Exploitation in US Technological Change
DESCRIPTION:The Growth Lab Research Seminar series is a weekly seminar that brings together researchers from across the academic spectrum who share an interest in growth and development. 	Location: Zoom 	Please register in advance. The Zoom webinar is open to the public. 	About the Seminar: How do firms and inventors move through knowledge space as they develop their innovations? In this seminar\, Vasco M. Carvalho proposes a method for tracking patterns of exploration and exploitation in patenting behaviour in the US for the period since 1920. The exploration measure is constructed from the text of patents and involves the use of Bayesian Surprise to measure how different current patent-based innovations are from existing portfolios. Results indicate that there are distinct life-cycle patterns to firm and inventor exploration. Furthermore\, exploration activity is more geographically concentrated than general patenting\, but this concentration is centered outside the main hubs of patenting.
URL:https://growthlab.hks.harvard.edu/event/research-seminar-exploration-and-exploitation-in-us-technological-change/
LOCATION:Belfer L1 Weil Town Hall\, HKS / Zoom (registration information below)
CATEGORIES:Academic Research Seminars
END:VEVENT
END:VCALENDAR