BEGIN:VCALENDAR
VERSION:2.0
PRODID:-//Growth Lab - ECPv6.15.20//NONSGML v1.0//EN
CALSCALE:GREGORIAN
METHOD:PUBLISH
X-ORIGINAL-URL:https://growthlab.hks.harvard.edu
X-WR-CALDESC:Events for Growth Lab
REFRESH-INTERVAL;VALUE=DURATION:PT1H
X-Robots-Tag:noindex
X-PUBLISHED-TTL:PT1H
BEGIN:VTIMEZONE
TZID:America/New_York
BEGIN:DAYLIGHT
TZOFFSETFROM:-0500
TZOFFSETTO:-0400
TZNAME:EDT
DTSTART:20230312T070000
END:DAYLIGHT
BEGIN:STANDARD
TZOFFSETFROM:-0400
TZOFFSETTO:-0500
TZNAME:EST
DTSTART:20231105T060000
END:STANDARD
BEGIN:DAYLIGHT
TZOFFSETFROM:-0500
TZOFFSETTO:-0400
TZNAME:EDT
DTSTART:20240310T070000
END:DAYLIGHT
BEGIN:STANDARD
TZOFFSETFROM:-0400
TZOFFSETTO:-0500
TZNAME:EST
DTSTART:20241103T060000
END:STANDARD
BEGIN:DAYLIGHT
TZOFFSETFROM:-0500
TZOFFSETTO:-0400
TZNAME:EDT
DTSTART:20250309T070000
END:DAYLIGHT
BEGIN:STANDARD
TZOFFSETFROM:-0400
TZOFFSETTO:-0500
TZNAME:EST
DTSTART:20251102T060000
END:STANDARD
END:VTIMEZONE
BEGIN:VEVENT
DTSTART;TZID=America/New_York:20240318T130000
DTEND;TZID=America/New_York:20240318T140000
DTSTAMP:20260419T170920
CREATED:20250303T201900Z
LAST-MODIFIED:20250910T001621Z
UID:14904-1710766800-1710770400@growthlab.hks.harvard.edu
SUMMARY:Faculty Webinar: Strategies for Inclusive Growth
DESCRIPTION:Join Profs. Matt Andrews and Ricardo Hausmann for a one-hour webinar on the rapidly evolving paths to economic prosperity and how rethinking economic policy\, from design to implementation\, can advance shared prosperity for all.  	Registration is required.  	This free\, live webinar is a precursor to the upcoming Harvard Kennedy School Executive Education program\, Strategies for Inclusive Growth. The recording will be distributed to all registrants. This presentation does not qualify for a certificate.
URL:https://growthlab.hks.harvard.edu/event/faculty-webinar-strategies-for-inclusive-growth/
LOCATION:Zoom (registration information below)
CATEGORIES:Growth Lab
END:VEVENT
BEGIN:VEVENT
DTSTART;TZID=America/New_York:20240320T100000
DTEND;TZID=America/New_York:20240320T113000
DTSTAMP:20260419T170920
CREATED:20240312T180600Z
LAST-MODIFIED:20250916T175436Z
UID:15003-1710928800-1710934200@growthlab.hks.harvard.edu
SUMMARY:Research Seminar: Contracting Frictions\, Geography\, and Multinational Firms: Evidence from Mexico
DESCRIPTION:The Growth Lab’s Research Seminar series is a weekly seminar that brings together researchers from across the academic spectrum who share an interest in growth and development.Speaker: Luis M. Espinoza Bardales\, Ph.D. candidate in Economics from University of Michigan 	Location: Online only. Please register in advance.Abstract: This paper explores how contracting frictions and geography influence the trade costs faced by multinationals’ affiliates located in Mexico relative to domestic firms. Luis documents two key facts. First\, distance to firm’s home countries influences firms’ sourcing patterns. Second\, sectors with a larger presence of foreign affiliates are more intensive in relationship-specific inputs. He develops a small open economy model with multiple sectors\, imperfect contracting\, input relationship-specificity\, global sourcing and multinational production. Luis computes a set of counterfactual equilibria to gauge the relative importance of contracting frictions\, trade costs\, and productivity in the price advantage of multinationals over domestic firms. He finds small median differences between foreign and domestic firms regarding inward trade and contracting costs\, with high variability across industries and home countries. \nAbout the Speaker: Luis Espinoza is a Ph.D. candidate in Economics from University of Michigan. He is also a former Growth Lab Fellow (2014-2016) and holds a MPAID (2014) degree from HKS. He will be joining the International Affairs faculty at the Bush School of Government and Public Service at Texas A&M this Fall. Luis’ research interest lies at the intersection of trade and development. His research focuses on economic development from a sectorial/macro perspective\, with an eye on potential lessons for policy.
URL:https://growthlab.hks.harvard.edu/event/research-seminar-contracting-frictions-geography-and-multinational-firms-evidence-from-mexico/
LOCATION:Zoom (registration information below)
CATEGORIES:Academic Research Seminars
END:VEVENT
BEGIN:VEVENT
DTSTART;TZID=America/New_York:20240327T100000
DTEND;TZID=America/New_York:20240327T113000
DTSTAMP:20260419T170920
CREATED:20240318T235200Z
LAST-MODIFIED:20250910T004012Z
UID:15029-1711533600-1711539000@growthlab.hks.harvard.edu
SUMMARY:Research Seminar: Property Rights and Innovation Dynamism: The Role of Women Inventors
DESCRIPTION:The Growth Lab’s Research Seminar series is a weekly seminar that brings together researchers from across the academic spectrum who share an interest in growth and development. 	Speaker: Ruveyda Gozen\, Ph.D. – London School of Economics. 	Location: Online only. Please register in advance. 	Paper: https://drive.google.com/file/d/1K5C4dMtp1toJ7AKAHnORAEZYgX5q84I5/view 	Abstract: How do stronger property rights for disadvantaged groups affect innovation? Dr. Ruveyda Gozen investigates the impact of strengthened property rights for women on U.S. innovation by analyzing the Married Women’s Property Acts\, which granted equal property rights to women starting in 1845 in New York State. She examines the universe of granted patents from 1790 until 1901\, exploiting the staggered adoption of the laws over time across states. The strengthening of women’s property rights led to a 39% increase in patenting activity among women in the long run\, with effects peaking about a decade after the laws were introduced. Importantly\, women’s innovations were not of lower quality (as measured by a novelty index based on patent text analysis)\, without generating negative effects on innovations by men. Therefore\, these findings suggest that there does not appear to be an equity and efficiency trade-off. Finally\, she shows that the main mechanism was through innovation incentives\, and higher human capital accumulation among women inventors rather than an increase in participation in STEM fields\, labor force participation\, or relieving financial frictions. 	Speaker Bio: Dr. Ruveyda Gozen is a research economist at the London School of Economics (LSE) at the Programme of Innovation and Diffusion (POID) directed by John Van Reenen. She is an applied microeconomist with a focus on economics of innovation\, growth\, entrepreneurship\, institutions\, inequality\, and technological progress.
URL:https://growthlab.hks.harvard.edu/event/research-seminar-property-rights-and-innovation-dynamism-the-role-of-women-inventors/
LOCATION:Zoom (registration information below)
CATEGORIES:Academic Research Seminars
END:VEVENT
BEGIN:VEVENT
DTSTART;TZID=America/New_York:20240327T120000
DTEND;TZID=America/New_York:20240327T130000
DTSTAMP:20260419T170920
CREATED:20240308T004200Z
LAST-MODIFIED:20250910T000810Z
UID:14871-1711540800-1711544400@growthlab.hks.harvard.edu
SUMMARY:Development Talk: Economic Gardening and Capitalism’s Conundrum
DESCRIPTION:The Growth Lab’s “Development Talks” is a series of conversations with policymakers and academics working on economic growth and development in countries\, regions\, states and cities in the US and around the world. The seminar provides a platform for practitioners and researchers to discuss both economic growth and development and analytical work centered on policy. This event is co-sponsored with the Taubman Center for State & Local Government. 	Speaker: Christian Gibbons\, founder of the National Center for Economic Gardening (NCEG) and creator of “Economic Gardening\,” an entrepreneurial approach to economic development. 	Moderator: Lara Gale\, Economic Development Program Manager\, Taubman Center for State & Local Government. 	This session will be an interactive discussion of capitalism’ conundrum and the role of Economic Gardening- an entrepreneurial\, grow-your-own approach to economic development.  Economic Gardening is based in part on the science of complex adaptive systems\, systems theory and Stage 2 companies with a focus on commodity traps.  	Whether attending in-person or virtually\, please register in advance. Room attendance is limited to the Harvard community. Seating availability is based on a first-come\, first-served basis. Lunch will be provided. The Zoom webinar is open to the public. 	Speaker Bio: Chris Gibbons is the founder of the National Center for Economic Gardening (NCEG).  He is the creator of “Economic Gardening\,” an entrepreneurial approach to economic development.  The program\, created in Littleton CO in 1987\, is widely regarded as introducing the first entrepreneurial element into economic development.  It is a major strategy used in many economic development programs today.  	From the period 1990 to 2010 the number of jobs in Littleton doubled from 15\,000 to 30\,000 and sales tax revenues more than tripled from $6 to $21 million.  The city did not recruit one business during this period\, nor did it offer one cent in incentives or tax rebates. The NCEG was created in 2012 to assist communities across the country to start and operate Economic Gardening programs.  	  	  	 
URL:https://growthlab.hks.harvard.edu/event/development-talk-economic-gardening-and-capitalisms-conundrum/
LOCATION:HYBRID T-520 NYE BC\, HKS / Zoom (registration information below)
CATEGORIES:Development Talks
END:VEVENT
END:VCALENDAR